Package: diffcyt Version: 1.30.0 Command: /home/biocbuild/R/R/bin/R CMD INSTALL diffcyt StartedAt: 2025-11-10 21:29:42 -0000 (Mon, 10 Nov 2025) EndedAt: 2025-11-10 21:30:27 -0000 (Mon, 10 Nov 2025) EllapsedTime: 44.3 seconds RetCode: 0 Status: OK