Package: diffcyt Version: 1.30.0 Command: /home/biocbuild/R/R/bin/R CMD check --install=check:diffcyt.install-out.txt --library=/home/biocbuild/R/R/site-library --no-vignettes --timings diffcyt_1.30.0.tar.gz StartedAt: 2025-11-11 09:07:35 -0000 (Tue, 11 Nov 2025) EndedAt: 2025-11-11 09:13:14 -0000 (Tue, 11 Nov 2025) EllapsedTime: 338.2 seconds RetCode: 0 Status: OK CheckDir: diffcyt.Rcheck Warnings: 0