Package: diffcyt Version: 1.30.0 Command: /home/biocbuild/bbs-3.22-bioc/R/bin/R CMD INSTALL diffcyt StartedAt: 2025-11-11 15:26:54 -0500 (Tue, 11 Nov 2025) EndedAt: 2025-11-11 15:27:26 -0500 (Tue, 11 Nov 2025) EllapsedTime: 31.6 seconds RetCode: 0 Status: OK