Package: diffcyt Version: 1.30.0 Command: /home/biocbuild/bbs-3.22-bioc/R/bin/R CMD check --install=check:diffcyt.install-out.txt --library=/home/biocbuild/bbs-3.22-bioc/R/site-library --timings diffcyt_1.30.0.tar.gz StartedAt: 2025-11-11 23:07:53 -0500 (Tue, 11 Nov 2025) EndedAt: 2025-11-11 23:13:24 -0500 (Tue, 11 Nov 2025) EllapsedTime: 331.3 seconds RetCode: 0 Status: OK CheckDir: diffcyt.Rcheck Warnings: 0