Package: diffcyt Version: 1.30.0 Command: /home/biocbuild/bbs-3.22-bioc/R/bin/R CMD build --keep-empty-dirs --no-resave-data --md5 diffcyt StartedAt: 2025-11-11 17:23:27 -0500 (Tue, 11 Nov 2025) EndedAt: 2025-11-11 17:25:05 -0500 (Tue, 11 Nov 2025) EllapsedTime: 98.1 seconds RetCode: 0 Status: OK PackageFile: diffcyt_1.30.0.tar.gz PackageFileSize: 897.2 KiB