Package: diffcoexp Version: 1.30.0 Command: /home/biocbuild/R/R/bin/R CMD check --install=check:diffcoexp.install-out.txt --library=/home/biocbuild/R/R/site-library --no-vignettes --timings diffcoexp_1.30.0.tar.gz StartedAt: 2025-11-11 09:07:21 -0000 (Tue, 11 Nov 2025) EndedAt: 2025-11-11 09:12:06 -0000 (Tue, 11 Nov 2025) EllapsedTime: 284.2 seconds RetCode: 0 Status: OK CheckDir: diffcoexp.Rcheck Warnings: 0