Package: diffcoexp Version: 1.30.0 Command: /home/biocbuild/R/R/bin/R CMD build --keep-empty-dirs --no-resave-data diffcoexp StartedAt: 2025-11-11 01:11:30 -0000 (Tue, 11 Nov 2025) EndedAt: 2025-11-11 01:12:28 -0000 (Tue, 11 Nov 2025) EllapsedTime: 58.0 seconds RetCode: 0 Status: OK PackageFile: diffcoexp_1.30.0.tar.gz PackageFileSize: 286.3 KiB