Package: diffcoexp Version: 1.30.0 Command: /home/biocbuild/bbs-3.22-bioc/R/bin/R CMD INSTALL diffcoexp StartedAt: 2025-11-11 15:48:56 -0500 (Tue, 11 Nov 2025) EndedAt: 2025-11-11 15:49:28 -0500 (Tue, 11 Nov 2025) EllapsedTime: 31.9 seconds RetCode: 0 Status: OK