Package: diffcoexp Version: 1.30.0 Command: /home/biocbuild/bbs-3.22-bioc/R/bin/R CMD build --keep-empty-dirs --no-resave-data --md5 diffcoexp StartedAt: 2025-11-11 17:23:22 -0500 (Tue, 11 Nov 2025) EndedAt: 2025-11-11 17:24:05 -0500 (Tue, 11 Nov 2025) EllapsedTime: 43.0 seconds RetCode: 0 Status: OK PackageFile: diffcoexp_1.30.0.tar.gz PackageFileSize: 294.9 KiB