Package: diffcoexp Version: 1.28.0 Command: rm -rf diffcoexp.buildbin-libdir && mkdir diffcoexp.buildbin-libdir && /Users/biocbuild/BBS/utils/build-universal.sh diffcoexp_1.28.0.tar.gz /Library/Frameworks/R.framework/Resources/bin/R diffcoexp.buildbin-libdir StartedAt: 2025-09-26 13:49:51 -0400 (Fri, 26 Sep 2025) EndedAt: 2025-09-26 13:51:27 -0400 (Fri, 26 Sep 2025) EllapsedTime: 96.1 seconds RetCode: 0 Status: OK PackageFile: diffcoexp_1.28.0.tgz PackageFileSize: 318.5 KiB