Package: diffUTR Version: 1.18.0 Command: /home/biocbuild/R/R/bin/R CMD INSTALL diffUTR StartedAt: 2025-11-10 21:49:01 -0000 (Mon, 10 Nov 2025) EndedAt: 2025-11-10 21:50:02 -0000 (Mon, 10 Nov 2025) EllapsedTime: 60.7 seconds RetCode: 0 Status: OK