Package: diffUTR Version: 1.18.0 Command: /home/biocbuild/R/R/bin/R CMD check --install=check:diffUTR.install-out.txt --library=/home/biocbuild/R/R/site-library --no-vignettes --timings diffUTR_1.18.0.tar.gz StartedAt: 2025-11-11 09:08:35 -0000 (Tue, 11 Nov 2025) EndedAt: 2025-11-11 09:15:30 -0000 (Tue, 11 Nov 2025) EllapsedTime: 414.3 seconds RetCode: 0 Status: OK CheckDir: diffUTR.Rcheck Warnings: 0