Package: diffUTR Version: 1.18.0 Command: /home/biocbuild/R/R/bin/R CMD build --keep-empty-dirs --no-resave-data diffUTR StartedAt: 2025-11-11 01:12:29 -0000 (Tue, 11 Nov 2025) EndedAt: 2025-11-11 01:14:10 -0000 (Tue, 11 Nov 2025) EllapsedTime: 101.0 seconds RetCode: 0 Status: OK PackageFile: diffUTR_1.18.0.tar.gz PackageFileSize: 1.145 MiB