Package: diffUTR Version: 1.18.0 Command: /home/biocbuild/bbs-3.22-bioc/R/bin/R CMD INSTALL diffUTR StartedAt: 2025-11-11 15:46:34 -0500 (Tue, 11 Nov 2025) EndedAt: 2025-11-11 15:47:20 -0500 (Tue, 11 Nov 2025) EllapsedTime: 45.7 seconds RetCode: 0 Status: OK