Package: diffUTR Version: 1.18.0 Command: /home/biocbuild/bbs-3.22-bioc/R/bin/R CMD check --install=check:diffUTR.install-out.txt --library=/home/biocbuild/bbs-3.22-bioc/R/site-library --timings diffUTR_1.18.0.tar.gz StartedAt: 2025-11-11 23:09:14 -0500 (Tue, 11 Nov 2025) EndedAt: 2025-11-11 23:15:09 -0500 (Tue, 11 Nov 2025) EllapsedTime: 354.3 seconds RetCode: 0 Status: OK CheckDir: diffUTR.Rcheck Warnings: 0