Package: diffUTR Version: 1.16.0 Command: /Library/Frameworks/R.framework/Resources/bin/R CMD build --keep-empty-dirs --no-resave-data diffUTR StartedAt: 2025-09-25 18:38:01 -0400 (Thu, 25 Sep 2025) EndedAt: 2025-09-25 18:40:55 -0400 (Thu, 25 Sep 2025) EllapsedTime: 174.0 seconds RetCode: 0 Status: OK PackageFile: diffUTR_1.16.0.tar.gz PackageFileSize: 1.381 MiB