Package: diffUTR Version: 1.16.0 Maintainer: Pierre-Luc Germain MaintainerEmail: pierre-luc.germain at hest.ethz.ch git_url: https://git.bioconductor.org/packages/diffUTR git_branch: RELEASE_3_21 git_last_commit: 8ef8f45 git_last_commit_date: 2025-04-15 12:30:16 -0400 (Tue, 15 Apr 2025)