Package: diffHic Version: 1.42.0 Command: /home/biocbuild/R/R/bin/R CMD INSTALL diffHic StartedAt: 2025-11-10 21:41:25 -0000 (Mon, 10 Nov 2025) EndedAt: 2025-11-10 21:43:43 -0000 (Mon, 10 Nov 2025) EllapsedTime: 137.6 seconds RetCode: 0 Status: OK