Package: diffHic Version: 1.42.0 Command: /home/biocbuild/R/R/bin/R CMD check --install=check:diffHic.install-out.txt --library=/home/biocbuild/R/R/site-library --no-vignettes --timings diffHic_1.42.0.tar.gz StartedAt: 2025-11-11 09:07:58 -0000 (Tue, 11 Nov 2025) EndedAt: 2025-11-11 09:15:05 -0000 (Tue, 11 Nov 2025) EllapsedTime: 426.3 seconds RetCode: 0 Status: OK CheckDir: diffHic.Rcheck Warnings: 0