Package: diffHic Version: 1.42.0 Command: /home/biocbuild/R/R/bin/R CMD build --keep-empty-dirs --no-resave-data diffHic StartedAt: 2025-11-11 01:11:43 -0000 (Tue, 11 Nov 2025) EndedAt: 2025-11-11 01:14:00 -0000 (Tue, 11 Nov 2025) EllapsedTime: 137.0 seconds RetCode: 0 Status: OK PackageFile: diffHic_1.42.0.tar.gz PackageFileSize: 1.513 MiB