Package: diffHic Version: 1.42.0 Command: /home/biocbuild/bbs-3.22-bioc/R/bin/R CMD build --keep-empty-dirs --no-resave-data --md5 diffHic StartedAt: 2025-11-11 17:23:38 -0500 (Tue, 11 Nov 2025) EndedAt: 2025-11-11 17:25:16 -0500 (Tue, 11 Nov 2025) EllapsedTime: 98.1 seconds RetCode: 0 Status: OK PackageFile: diffHic_1.42.0.tar.gz PackageFileSize: 1.521 MiB