Package: diffHic Version: 1.40.0 Command: /Library/Frameworks/R.framework/Resources/bin/R CMD check --install=check:diffHic.install-out.txt --library=/Library/Frameworks/R.framework/Resources/library --no-vignettes --timings diffHic_1.40.0.tar.gz StartedAt: 2025-09-30 02:50:49 -0400 (Tue, 30 Sep 2025) EndedAt: 2025-09-30 03:02:13 -0400 (Tue, 30 Sep 2025) EllapsedTime: 684.1 seconds RetCode: 0 Status: OK CheckDir: diffHic.Rcheck Warnings: 0