Package: diffGeneAnalysis Version: 1.92.0 Command: /home/biocbuild/R/R/bin/R CMD INSTALL diffGeneAnalysis StartedAt: 2025-11-10 21:06:02 -0000 (Mon, 10 Nov 2025) EndedAt: 2025-11-10 21:06:30 -0000 (Mon, 10 Nov 2025) EllapsedTime: 28.0 seconds RetCode: 0 Status: OK