Package: diffGeneAnalysis Version: 1.92.0 Command: /home/biocbuild/bbs-3.22-bioc/R/bin/R CMD check --install=check:diffGeneAnalysis.install-out.txt --library=/home/biocbuild/bbs-3.22-bioc/R/site-library --timings diffGeneAnalysis_1.92.0.tar.gz StartedAt: 2025-11-11 23:08:27 -0500 (Tue, 11 Nov 2025) EndedAt: 2025-11-11 23:08:45 -0500 (Tue, 11 Nov 2025) EllapsedTime: 18.0 seconds RetCode: 0 Status: OK CheckDir: diffGeneAnalysis.Rcheck Warnings: 0