Package: destiny Version: 3.24.0 Command: /home/biocbuild/bbs-3.22-bioc/R/bin/R CMD INSTALL destiny StartedAt: 2025-11-14 15:22:53 -0500 (Fri, 14 Nov 2025) EndedAt: 2025-11-14 15:23:49 -0500 (Fri, 14 Nov 2025) EllapsedTime: 55.5 seconds RetCode: 0 Status: OK