Package: destiny Version: 3.24.0 Command: /home/biocbuild/bbs-3.22-bioc/R/bin/R CMD build --keep-empty-dirs --no-resave-data --md5 destiny StartedAt: 2025-11-14 17:21:27 -0500 (Fri, 14 Nov 2025) EndedAt: 2025-11-14 17:27:43 -0500 (Fri, 14 Nov 2025) EllapsedTime: 375.3 seconds RetCode: 0 Status: OK PackageFile: destiny_3.24.0.tar.gz PackageFileSize: 879.6 KiB