Package: derfinderPlot Version: 1.44.0 Command: /home/biocbuild/bbs-3.22-bioc/R/bin/R CMD INSTALL derfinderPlot StartedAt: 2025-11-11 16:02:01 -0500 (Tue, 11 Nov 2025) EndedAt: 2025-11-11 16:02:54 -0500 (Tue, 11 Nov 2025) EllapsedTime: 52.5 seconds RetCode: 0 Status: OK