Package: derfinderPlot Version: 1.44.0 Command: /home/biocbuild/bbs-3.22-bioc/R/bin/R CMD check --install=check:derfinderPlot.install-out.txt --library=/home/biocbuild/bbs-3.22-bioc/R/site-library --timings derfinderPlot_1.44.0.tar.gz StartedAt: 2025-11-14 23:04:46 -0500 (Fri, 14 Nov 2025) EndedAt: 2025-11-14 23:17:45 -0500 (Fri, 14 Nov 2025) EllapsedTime: 779.6 seconds RetCode: 0 Status: OK CheckDir: derfinderPlot.Rcheck Warnings: 0