Package: derfinderPlot Version: 1.44.0 Command: /Library/Frameworks/R.framework/Resources/bin/R CMD INSTALL derfinderPlot StartedAt: 2025-10-31 15:57:04 -0400 (Fri, 31 Oct 2025) EndedAt: 2025-10-31 15:58:10 -0400 (Fri, 31 Oct 2025) EllapsedTime: 65.8 seconds RetCode: 0 Status: OK