Package: derfinderPlot Version: 1.44.0 Command: /Library/Frameworks/R.framework/Resources/bin/R CMD build --keep-empty-dirs --no-resave-data derfinderPlot StartedAt: 2025-10-31 16:51:06 -0400 (Fri, 31 Oct 2025) EndedAt: 2025-10-31 16:55:13 -0400 (Fri, 31 Oct 2025) EllapsedTime: 247.3 seconds RetCode: 0 Status: OK PackageFile: derfinderPlot_1.44.0.tar.gz PackageFileSize: 2.473 MiB