Package: derfinderPlot Version: 1.42.0 Command: /home/biocbuild/R/R/bin/R CMD INSTALL derfinderPlot StartedAt: 2025-10-09 21:14:50 -0000 (Thu, 09 Oct 2025) EndedAt: 2025-10-09 21:16:01 -0000 (Thu, 09 Oct 2025) EllapsedTime: 71.1 seconds RetCode: 0 Status: OK