Package: derfinderPlot Version: 1.42.0 Command: /home/biocbuild/R/R/bin/R CMD build --keep-empty-dirs --no-resave-data derfinderPlot StartedAt: 2025-10-10 00:19:18 -0000 (Fri, 10 Oct 2025) EndedAt: 2025-10-10 00:23:40 -0000 (Fri, 10 Oct 2025) EllapsedTime: 262.1 seconds RetCode: 0 Status: OK PackageFile: derfinderPlot_1.42.0.tar.gz PackageFileSize: 2.328 MiB