Package: derfinderHelper Version: 1.44.0 Command: /home/biocbuild/bbs-3.22-bioc/R/bin/R CMD INSTALL derfinderHelper StartedAt: 2025-11-11 15:18:36 -0500 (Tue, 11 Nov 2025) EndedAt: 2025-11-11 15:18:46 -0500 (Tue, 11 Nov 2025) EllapsedTime: 9.7 seconds RetCode: 0 Status: OK