Package: derfinderHelper Version: 1.44.0 Command: /Library/Frameworks/R.framework/Resources/bin/R CMD INSTALL derfinderHelper StartedAt: 2025-11-03 15:20:58 -0500 (Mon, 03 Nov 2025) EndedAt: 2025-11-03 15:21:14 -0500 (Mon, 03 Nov 2025) EllapsedTime: 16.2 seconds RetCode: 0 Status: OK