Package: derfinderHelper Version: 1.42.0 Command: /home/biocbuild/R/R/bin/R CMD INSTALL derfinderHelper StartedAt: 2025-10-09 20:27:05 -0000 (Thu, 09 Oct 2025) EndedAt: 2025-10-09 20:27:22 -0000 (Thu, 09 Oct 2025) EllapsedTime: 17.9 seconds RetCode: 0 Status: OK