Package: derfinderHelper Version: 1.42.0 Command: /home/biocbuild/R/R/bin/R CMD build --keep-empty-dirs --no-resave-data derfinderHelper StartedAt: 2025-10-10 00:19:12 -0000 (Fri, 10 Oct 2025) EndedAt: 2025-10-10 00:19:35 -0000 (Fri, 10 Oct 2025) EllapsedTime: 23.0 seconds RetCode: 0 Status: OK PackageFile: derfinderHelper_1.42.0.tar.gz PackageFileSize: 377 KiB