Package: derfinder Version: 1.44.0 Command: /home/biocbuild/bbs-3.22-bioc/R/bin/R CMD INSTALL derfinder StartedAt: 2025-11-13 15:57:00 -0500 (Thu, 13 Nov 2025) EndedAt: 2025-11-13 15:57:46 -0500 (Thu, 13 Nov 2025) EllapsedTime: 45.9 seconds RetCode: 0 Status: OK