Package: densvis Version: 1.20.0 Command: /home/biocbuild/bbs-3.22-bioc/R/bin/R CMD INSTALL densvis StartedAt: 2025-11-02 15:17:51 -0500 (Sun, 02 Nov 2025) EndedAt: 2025-11-02 15:18:14 -0500 (Sun, 02 Nov 2025) EllapsedTime: 23.1 seconds RetCode: 0 Status: OK