Package: densvis Version: 1.20.0 Command: /home/biocbuild/bbs-3.22-bioc/R/bin/R CMD build --keep-empty-dirs --no-resave-data --md5 densvis StartedAt: 2025-10-31 17:26:04 -0400 (Fri, 31 Oct 2025) EndedAt: 2025-10-31 17:27:27 -0400 (Fri, 31 Oct 2025) EllapsedTime: 83.0 seconds RetCode: 0 Status: OK PackageFile: densvis_1.20.0.tar.gz PackageFileSize: 1.678 MiB