Package: demuxSNP Version: 1.6.1 Command: /home/biocbuild/R/R/bin/R CMD INSTALL demuxSNP StartedAt: 2025-10-13 20:56:27 -0000 (Mon, 13 Oct 2025) EndedAt: 2025-10-13 20:57:33 -0000 (Mon, 13 Oct 2025) EllapsedTime: 66.4 seconds RetCode: 0 Status: OK