Package: demuxSNP Version: 1.6.1 Command: /home/biocbuild/R/R/bin/R CMD build --keep-empty-dirs --no-resave-data demuxSNP StartedAt: 2025-10-14 00:16:32 -0000 (Tue, 14 Oct 2025) EndedAt: 2025-10-14 00:19:52 -0000 (Tue, 14 Oct 2025) EllapsedTime: 200.1 seconds RetCode: 0 Status: OK PackageFile: demuxSNP_1.6.1.tar.gz PackageFileSize: 1.974 MiB