Package: deltaCaptureC Version: 1.24.0 Command: /home/biocbuild/R/R/bin/R CMD INSTALL deltaCaptureC StartedAt: 2025-11-13 21:33:13 -0000 (Thu, 13 Nov 2025) EndedAt: 2025-11-13 21:33:55 -0000 (Thu, 13 Nov 2025) EllapsedTime: 42.9 seconds RetCode: 0 Status: OK