Package: deltaCaptureC Version: 1.24.0 Command: /home/biocbuild/R/R/bin/R CMD build --keep-empty-dirs --no-resave-data deltaCaptureC StartedAt: 2025-11-14 01:12:05 -0000 (Fri, 14 Nov 2025) EndedAt: 2025-11-14 01:14:55 -0000 (Fri, 14 Nov 2025) EllapsedTime: 170.1 seconds RetCode: 0 Status: OK PackageFile: deltaCaptureC_1.24.0.tar.gz PackageFileSize: 332.4 KiB