Package: deltaCaptureC Version: 1.24.0 Command: /home/biocbuild/bbs-3.22-bioc/R/bin/R CMD INSTALL deltaCaptureC StartedAt: 2025-11-11 15:34:26 -0500 (Tue, 11 Nov 2025) EndedAt: 2025-11-11 15:34:58 -0500 (Tue, 11 Nov 2025) EllapsedTime: 32.2 seconds RetCode: 0 Status: OK