Package: deltaCaptureC Version: 1.24.0 Command: /home/biocbuild/bbs-3.22-bioc/R/bin/R CMD check --install=check:deltaCaptureC.install-out.txt --library=/home/biocbuild/bbs-3.22-bioc/R/site-library --timings deltaCaptureC_1.24.0.tar.gz StartedAt: 2025-11-14 23:01:12 -0500 (Fri, 14 Nov 2025) EndedAt: 2025-11-14 23:07:16 -0500 (Fri, 14 Nov 2025) EllapsedTime: 364.4 seconds RetCode: 0 Status: OK CheckDir: deltaCaptureC.Rcheck Warnings: 0