Package: deltaCaptureC Version: 1.22.0 Command: /home/biocbuild/bbs-3.21-bioc/R/bin/R CMD INSTALL deltaCaptureC StartedAt: 2025-10-12 15:29:46 -0400 (Sun, 12 Oct 2025) EndedAt: 2025-10-12 15:30:18 -0400 (Sun, 12 Oct 2025) EllapsedTime: 32.0 seconds RetCode: 0 Status: OK