Package: deltaCaptureC Version: 1.22.0 Command: /home/biocbuild/bbs-3.21-bioc/R/bin/R CMD build --keep-empty-dirs --no-resave-data deltaCaptureC StartedAt: 2025-10-12 17:09:35 -0400 (Sun, 12 Oct 2025) EndedAt: 2025-10-12 17:11:36 -0400 (Sun, 12 Oct 2025) EllapsedTime: 120.1 seconds RetCode: 0 Status: OK PackageFile: deltaCaptureC_1.22.0.tar.gz PackageFileSize: 332 KiB