Package: deepSNV Version: 1.56.0 Command: /home/biocbuild/bbs-3.22-bioc/R/bin/R CMD INSTALL deepSNV StartedAt: 2025-11-13 15:41:04 -0500 (Thu, 13 Nov 2025) EndedAt: 2025-11-13 15:41:52 -0500 (Thu, 13 Nov 2025) EllapsedTime: 47.9 seconds RetCode: 0 Status: OK