Package: deepSNV Version: 1.56.0 Command: /Library/Frameworks/R.framework/Resources/bin/R CMD INSTALL deepSNV StartedAt: 2025-11-10 15:20:46 -0500 (Mon, 10 Nov 2025) EndedAt: 2025-11-10 15:21:05 -0500 (Mon, 10 Nov 2025) EllapsedTime: 19.1 seconds RetCode: 0 Status: OK