Package: deepSNV Version: 1.56.0 Command: /Library/Frameworks/R.framework/Resources/bin/R CMD build --keep-empty-dirs --no-resave-data deepSNV StartedAt: 2025-11-10 16:09:03 -0500 (Mon, 10 Nov 2025) EndedAt: 2025-11-10 16:09:37 -0500 (Mon, 10 Nov 2025) EllapsedTime: 34.4 seconds RetCode: 0 Status: OK PackageFile: deepSNV_1.56.0.tar.gz PackageFileSize: 2.529 MiB